BEGIN:VCALENDAR
VERSION:2.0
PRODID:-//UCLA Department of African American Studies - ECPv6.15.17.1//NONSGML v1.0//EN
CALSCALE:GREGORIAN
METHOD:PUBLISH
X-WR-CALNAME:UCLA Department of African American Studies
X-ORIGINAL-URL:https://afam.ucla.edu
X-WR-CALDESC:Events for UCLA Department of African American Studies
REFRESH-INTERVAL;VALUE=DURATION:PT1H
X-Robots-Tag:noindex
X-PUBLISHED-TTL:PT1H
BEGIN:VTIMEZONE
TZID:America/Los_Angeles
BEGIN:DAYLIGHT
TZOFFSETFROM:-0800
TZOFFSETTO:-0700
TZNAME:PDT
DTSTART:20250309T100000
END:DAYLIGHT
BEGIN:STANDARD
TZOFFSETFROM:-0700
TZOFFSETTO:-0800
TZNAME:PST
DTSTART:20251102T090000
END:STANDARD
BEGIN:DAYLIGHT
TZOFFSETFROM:-0800
TZOFFSETTO:-0700
TZNAME:PDT
DTSTART:20260308T100000
END:DAYLIGHT
BEGIN:STANDARD
TZOFFSETFROM:-0700
TZOFFSETTO:-0800
TZNAME:PST
DTSTART:20261101T090000
END:STANDARD
BEGIN:DAYLIGHT
TZOFFSETFROM:-0800
TZOFFSETTO:-0700
TZNAME:PDT
DTSTART:20270314T100000
END:DAYLIGHT
BEGIN:STANDARD
TZOFFSETFROM:-0700
TZOFFSETTO:-0800
TZNAME:PST
DTSTART:20271107T090000
END:STANDARD
END:VTIMEZONE
BEGIN:VEVENT
DTSTART;TZID=America/Los_Angeles:20260121T113000
DTEND;TZID=America/Los_Angeles:20260121T130000
DTSTAMP:20260419T105443
CREATED:20260122T013712Z
LAST-MODIFIED:20260122T014041Z
UID:10781-1768995000-1769000400@afam.ucla.edu
SUMMARY:Beyond the Clinic\, Beyond the Classroom: Black Families Rewriting Possibility in Autism Care
DESCRIPTION:Please join us for an upcoming research talk by Dr. Stephanie Keeney Parks\, Chancellor’s Postdoctoral Fellow in the Department of African American Studies \n  \n*Lunch will be provided. In-person attendance is strongly encouraged; a Zoom option will be available for those unable to join us in-person.*
URL:https://afam.ucla.edu/event/beyond-the-clinic-beyond-the-classroom-black-families-rewriting-possibility-in-autism-care/
LOCATION:Black Forum\, 153 Haines Hall\, Los Angeles\, CA\, 90303\, United States
END:VEVENT
END:VCALENDAR