BEGIN:VCALENDAR
VERSION:2.0
PRODID:-//UCLA Department of African American Studies - ECPv6.15.17.1//NONSGML v1.0//EN
CALSCALE:GREGORIAN
METHOD:PUBLISH
X-WR-CALNAME:UCLA Department of African American Studies
X-ORIGINAL-URL:https://afam.ucla.edu
X-WR-CALDESC:Events for UCLA Department of African American Studies
REFRESH-INTERVAL;VALUE=DURATION:PT1H
X-Robots-Tag:noindex
X-PUBLISHED-TTL:PT1H
BEGIN:VTIMEZONE
TZID:UTC
BEGIN:STANDARD
TZOFFSETFROM:+0000
TZOFFSETTO:+0000
TZNAME:UTC
DTSTART:20220101T000000
END:STANDARD
END:VTIMEZONE
BEGIN:VEVENT
DTSTART;TZID=UTC:20230422T100000
DTEND;TZID=UTC:20230422T140000
DTSTAMP:20260424T061943
CREATED:20230419T123007Z
LAST-MODIFIED:20230728T123805Z
UID:8161-1682157600-1682172000@afam.ucla.edu
SUMMARY:Black Dress & Culture Series: Fashion City Los Angeles
DESCRIPTION:Description:\nUCLA will be hosting the second installment of the “Fashion City: Los Angeles” jointly presented by UCLA’s Copley Center for the Study of Costume Design and Department of African American Studies. \n\n\nThe Black Dress and Culture series engages scholars and practitioners in conversations on the multifaceted aspects of Black dress within cultural narratives. These panel discussions will focus on the evolving perceptions and impacts of Black fashion and aesthetics in history and popular culture and will address and expand on the multiple viewpoints within ongoing and sometimes-contentious histories and contemporary practices. \nThis two-part discussion will encourage debate and engage with the speakers’ repertory of knowledge\, experience\, and research. \nRSVP Required:  \nhttps://www.eventbrite.com/e/ucla-black-dress-culture-series-tickets-607726405037 \n\n*Contact Kristen Mundy (kmundy@afam.ucla.edu) or Gina Lewis (lewisgina@g.ucla.edu) with questions!*
URL:https://afam.ucla.edu/event/black-dress-culture-series-fashion-city-los-angeles/
LOCATION:James Bridges Theater
END:VEVENT
END:VCALENDAR