BEGIN:VCALENDAR
VERSION:2.0
PRODID:-//UCLA Department of African American Studies - ECPv6.15.17.1//NONSGML v1.0//EN
CALSCALE:GREGORIAN
METHOD:PUBLISH
X-WR-CALNAME:UCLA Department of African American Studies
X-ORIGINAL-URL:https://afam.ucla.edu
X-WR-CALDESC:Events for UCLA Department of African American Studies
REFRESH-INTERVAL;VALUE=DURATION:PT1H
X-Robots-Tag:noindex
X-PUBLISHED-TTL:PT1H
BEGIN:VTIMEZONE
TZID:America/Los_Angeles
BEGIN:DAYLIGHT
TZOFFSETFROM:-0800
TZOFFSETTO:-0700
TZNAME:PDT
DTSTART:20210314T100000
END:DAYLIGHT
BEGIN:STANDARD
TZOFFSETFROM:-0700
TZOFFSETTO:-0800
TZNAME:PST
DTSTART:20211107T090000
END:STANDARD
BEGIN:DAYLIGHT
TZOFFSETFROM:-0800
TZOFFSETTO:-0700
TZNAME:PDT
DTSTART:20220313T100000
END:DAYLIGHT
BEGIN:STANDARD
TZOFFSETFROM:-0700
TZOFFSETTO:-0800
TZNAME:PST
DTSTART:20221106T090000
END:STANDARD
BEGIN:DAYLIGHT
TZOFFSETFROM:-0800
TZOFFSETTO:-0700
TZNAME:PDT
DTSTART:20230312T100000
END:DAYLIGHT
BEGIN:STANDARD
TZOFFSETFROM:-0700
TZOFFSETTO:-0800
TZNAME:PST
DTSTART:20231105T090000
END:STANDARD
END:VTIMEZONE
BEGIN:VEVENT
DTSTART;TZID=America/Los_Angeles:20221019T160000
DTEND;TZID=America/Los_Angeles:20221019T180000
DTSTAMP:20260424T195715
CREATED:20221007T231513Z
LAST-MODIFIED:20221007T231513Z
UID:7266-1666195200-1666202400@afam.ucla.edu
SUMMARY:Comrade Sisters Book Talk w/ Ericka Huggins & Stephen James
DESCRIPTION:Mark your calendars for the October 19th Comrade Sisters Book Talk Event! UCLA has invited Activist Ericka Huggins and Photographer Stephen James to discuss their book “Comrade Sisters: Women of the Black Panther Party”! \n \n  \nRead more about our esteemed guest speakers below!
URL:https://afam.ucla.edu/event/7266/
LOCATION:CA
END:VEVENT
BEGIN:VEVENT
DTSTART;TZID=America/Los_Angeles:20221024T150000
DTEND;TZID=America/Los_Angeles:20221024T170000
DTSTAMP:20260424T195715
CREATED:20221007T232305Z
LAST-MODIFIED:20221007T232305Z
UID:7289-1666623600-1666630800@afam.ucla.edu
SUMMARY:Writing Health Through Black Feminist Theory
DESCRIPTION:
URL:https://afam.ucla.edu/event/writing-health-through-black-feminist-theory/
LOCATION:CA
END:VEVENT
BEGIN:VEVENT
DTSTART;TZID=America/Los_Angeles:20221025T170000
DTEND;TZID=America/Los_Angeles:20221025T183000
DTSTAMP:20260424T195715
CREATED:20221024T222637Z
LAST-MODIFIED:20221024T222637Z
UID:7309-1666717200-1666722600@afam.ucla.edu
SUMMARY:Sekou Odinga: Reflections of A Freedom Fighter
DESCRIPTION:
URL:https://afam.ucla.edu/event/sekou-odinga-reflections-of-a-freedom-fighter/
LOCATION:CA
END:VEVENT
END:VCALENDAR