BEGIN:VCALENDAR
VERSION:2.0
PRODID:-//UCLA Department of African American Studies - ECPv6.15.17.1//NONSGML v1.0//EN
CALSCALE:GREGORIAN
METHOD:PUBLISH
X-ORIGINAL-URL:https://afam.ucla.edu
X-WR-CALDESC:Events for UCLA Department of African American Studies
REFRESH-INTERVAL;VALUE=DURATION:PT1H
X-Robots-Tag:noindex
X-PUBLISHED-TTL:PT1H
BEGIN:VTIMEZONE
TZID:America/Los_Angeles
BEGIN:DAYLIGHT
TZOFFSETFROM:-0800
TZOFFSETTO:-0700
TZNAME:PDT
DTSTART:20210314T100000
END:DAYLIGHT
BEGIN:STANDARD
TZOFFSETFROM:-0700
TZOFFSETTO:-0800
TZNAME:PST
DTSTART:20211107T090000
END:STANDARD
BEGIN:DAYLIGHT
TZOFFSETFROM:-0800
TZOFFSETTO:-0700
TZNAME:PDT
DTSTART:20220313T100000
END:DAYLIGHT
BEGIN:STANDARD
TZOFFSETFROM:-0700
TZOFFSETTO:-0800
TZNAME:PST
DTSTART:20221106T090000
END:STANDARD
BEGIN:DAYLIGHT
TZOFFSETFROM:-0800
TZOFFSETTO:-0700
TZNAME:PDT
DTSTART:20230312T100000
END:DAYLIGHT
BEGIN:STANDARD
TZOFFSETFROM:-0700
TZOFFSETTO:-0800
TZNAME:PST
DTSTART:20231105T090000
END:STANDARD
END:VTIMEZONE
BEGIN:VEVENT
DTSTART;TZID=America/Los_Angeles:20220503T163000
DTEND;TZID=America/Los_Angeles:20220503T183000
DTSTAMP:20260425T173654
CREATED:20220429T214942Z
LAST-MODIFIED:20220429T214942Z
UID:7037-1651595400-1651602600@afam.ucla.edu
SUMMARY:Geneva Smitherman Book Talk!
DESCRIPTION:This event will feature a panel that discusses the recent publication of Dr. Geneva Smitherman’s memoir: Geneva Napoleon Smitherman\, My Soul Look Back in Wonder\, 1st edition (Routledge\, 2022). Three speakers\, Dr Bryce Henson\, Dr. Austin Jackson\, and our very own Professor Kyle T. Mays\, will offer reactions to her book from their interdisciplinary perspectives and also comment on her contribution to Black Studies. Excited to see you all there! \n \nThe book talk will take place in The Black Forum (Haines Hall 153) at 4:30 pm on Tuesday\, May 3rd! \nIf you are on campus\, we would welcome your in-person attendance! \nIf you would rather watch online\, click here for the zoom link!
URL:https://afam.ucla.edu/event/geneva-smitherman-book-talk/
LOCATION:CA
END:VEVENT
END:VCALENDAR