BEGIN:VCALENDAR
VERSION:2.0
PRODID:-//UCLA Department of African American Studies - ECPv6.15.17.1//NONSGML v1.0//EN
CALSCALE:GREGORIAN
METHOD:PUBLISH
X-WR-CALNAME:UCLA Department of African American Studies
X-ORIGINAL-URL:https://afam.ucla.edu
X-WR-CALDESC:Events for UCLA Department of African American Studies
REFRESH-INTERVAL;VALUE=DURATION:PT1H
X-Robots-Tag:noindex
X-PUBLISHED-TTL:PT1H
BEGIN:VTIMEZONE
TZID:America/Los_Angeles
BEGIN:DAYLIGHT
TZOFFSETFROM:-0800
TZOFFSETTO:-0700
TZNAME:PDT
DTSTART:20120311T100000
END:DAYLIGHT
BEGIN:STANDARD
TZOFFSETFROM:-0700
TZOFFSETTO:-0800
TZNAME:PST
DTSTART:20121104T090000
END:STANDARD
BEGIN:DAYLIGHT
TZOFFSETFROM:-0800
TZOFFSETTO:-0700
TZNAME:PDT
DTSTART:20130310T100000
END:DAYLIGHT
BEGIN:STANDARD
TZOFFSETFROM:-0700
TZOFFSETTO:-0800
TZNAME:PST
DTSTART:20131103T090000
END:STANDARD
BEGIN:DAYLIGHT
TZOFFSETFROM:-0800
TZOFFSETTO:-0700
TZNAME:PDT
DTSTART:20140309T100000
END:DAYLIGHT
BEGIN:STANDARD
TZOFFSETFROM:-0700
TZOFFSETTO:-0800
TZNAME:PST
DTSTART:20141102T090000
END:STANDARD
BEGIN:DAYLIGHT
TZOFFSETFROM:-0800
TZOFFSETTO:-0700
TZNAME:PDT
DTSTART:20150308T100000
END:DAYLIGHT
BEGIN:STANDARD
TZOFFSETFROM:-0700
TZOFFSETTO:-0800
TZNAME:PST
DTSTART:20151101T090000
END:STANDARD
END:VTIMEZONE
BEGIN:VEVENT
DTSTART;TZID=America/Los_Angeles:20140212T200000
DTEND;TZID=America/Los_Angeles:20140212T220000
DTSTAMP:20260421T174100
CREATED:20160112T204200Z
LAST-MODIFIED:20160112T204200Z
UID:838-1392235200-1392242400@afam.ucla.edu
SUMMARY:"American Revolutionary: The Evolution of Grace Lee Boggs" Free Screening
DESCRIPTION:Screening will be followed by conversation with filmmaker Grace Lee. \nTickets are first-come\, first-served.
URL:https://afam.ucla.edu/event/american-revolutionary-the-evolution-of-grace-lee-boggs-free-screening/
END:VEVENT
BEGIN:VEVENT
DTSTART;TZID=America/Los_Angeles:20140130T120000
DTEND;TZID=America/Los_Angeles:20140130T130000
DTSTAMP:20260421T174100
CREATED:20160112T204352Z
LAST-MODIFIED:20160112T204352Z
UID:839-1391083200-1391086800@afam.ucla.edu
SUMMARY:Jonathan Scott Holloway discusses his book\, "Jim Crow Wisdom"
DESCRIPTION:Jim Crow Wisdom: Memory and Identity in Black American Since 1940 (UNC Press\, 2013) \nJonathan Holloway\, Yale University Professor of History\, American Studies and African American Studies is also the author of Confronting the Veil: Abram Harris Jr.\, E. Franklin Frazier\, and Ralph Bunche\, 1919-1941 (2002). He is a specialist in post-emancipation United States history with a focus on cultural and intellectual history. \n*co-sponsored with the Bunche Center
URL:https://afam.ucla.edu/event/jonathan-scott-holloway-discusses-his-book-jim-crow-wisdom/
END:VEVENT
BEGIN:VEVENT
DTSTART;TZID=America/Los_Angeles:20131009T150000
DTEND;TZID=America/Los_Angeles:20131009T170000
DTSTAMP:20260421T174100
CREATED:20160112T204548Z
LAST-MODIFIED:20160112T204548Z
UID:840-1381330800-1381338000@afam.ucla.edu
SUMMARY:Afro-American Studies BA Welcome Event
DESCRIPTION:
URL:https://afam.ucla.edu/event/afro-american-studies-ba-welcome-event/
END:VEVENT
END:VCALENDAR