BEGIN:VCALENDAR
VERSION:2.0
PRODID:-//UCLA Department of African American Studies - ECPv6.15.17.1//NONSGML v1.0//EN
CALSCALE:GREGORIAN
METHOD:PUBLISH
X-ORIGINAL-URL:https://afam.ucla.edu
X-WR-CALDESC:Events for UCLA Department of African American Studies
REFRESH-INTERVAL;VALUE=DURATION:PT1H
X-Robots-Tag:noindex
X-PUBLISHED-TTL:PT1H
BEGIN:VTIMEZONE
TZID:America/Los_Angeles
BEGIN:DAYLIGHT
TZOFFSETFROM:-0800
TZOFFSETTO:-0700
TZNAME:PDT
DTSTART:20160313T100000
END:DAYLIGHT
BEGIN:STANDARD
TZOFFSETFROM:-0700
TZOFFSETTO:-0800
TZNAME:PST
DTSTART:20161106T090000
END:STANDARD
BEGIN:DAYLIGHT
TZOFFSETFROM:-0800
TZOFFSETTO:-0700
TZNAME:PDT
DTSTART:20170312T100000
END:DAYLIGHT
BEGIN:STANDARD
TZOFFSETFROM:-0700
TZOFFSETTO:-0800
TZNAME:PST
DTSTART:20171105T090000
END:STANDARD
BEGIN:DAYLIGHT
TZOFFSETFROM:-0800
TZOFFSETTO:-0700
TZNAME:PDT
DTSTART:20180311T100000
END:DAYLIGHT
BEGIN:STANDARD
TZOFFSETFROM:-0700
TZOFFSETTO:-0800
TZNAME:PST
DTSTART:20181104T090000
END:STANDARD
BEGIN:DAYLIGHT
TZOFFSETFROM:-0800
TZOFFSETTO:-0700
TZNAME:PDT
DTSTART:20190310T100000
END:DAYLIGHT
BEGIN:STANDARD
TZOFFSETFROM:-0700
TZOFFSETTO:-0800
TZNAME:PST
DTSTART:20191103T090000
END:STANDARD
BEGIN:DAYLIGHT
TZOFFSETFROM:-0800
TZOFFSETTO:-0700
TZNAME:PDT
DTSTART:20200308T100000
END:DAYLIGHT
BEGIN:STANDARD
TZOFFSETFROM:-0700
TZOFFSETTO:-0800
TZNAME:PST
DTSTART:20201101T090000
END:STANDARD
BEGIN:DAYLIGHT
TZOFFSETFROM:-0800
TZOFFSETTO:-0700
TZNAME:PDT
DTSTART:20210314T100000
END:DAYLIGHT
BEGIN:STANDARD
TZOFFSETFROM:-0700
TZOFFSETTO:-0800
TZNAME:PST
DTSTART:20211107T090000
END:STANDARD
BEGIN:DAYLIGHT
TZOFFSETFROM:-0800
TZOFFSETTO:-0700
TZNAME:PDT
DTSTART:20220313T100000
END:DAYLIGHT
BEGIN:STANDARD
TZOFFSETFROM:-0700
TZOFFSETTO:-0800
TZNAME:PST
DTSTART:20221106T090000
END:STANDARD
END:VTIMEZONE
BEGIN:VEVENT
DTSTART;TZID=America/Los_Angeles:20211005T070000
DTEND;TZID=America/Los_Angeles:20211005T200000
DTSTAMP:20260419T064745
CREATED:20210929T215256Z
LAST-MODIFIED:20210929T215256Z
UID:6468-1633417200-1633464000@afam.ucla.edu
SUMMARY:IdentiTEA Discussion
DESCRIPTION:The Mixed Student Union (MSU) is hosting their first discussion/meeting of the year this upcoming Tuesday\, October 5\, at 7pm-8pm in Kaplan Hall\, in room 135! \nThey will be discussing what it’s like growing up mixed-race\, and overall spilling the “tea” on what it’s like being mixed and how that affects identity. \n*MSU is a cultural group for mixed-race and multiethnic individuals that aims to unite and foster UCLA’s mixed community. They meet weekly on Tuesdays at 7-8pm at Kaplan 135.* \nJoin their newsletter subscription here! \n 
URL:https://afam.ucla.edu/event/identitea-discussion/
CATEGORIES:Divisional Publish
END:VEVENT
BEGIN:VEVENT
DTSTART;VALUE=DATE:20170728
DTEND;VALUE=DATE:20170729
DTSTAMP:20260419T064745
CREATED:20170726T205351Z
LAST-MODIFIED:20170726T205351Z
UID:1759-1501200000-1501286399@afam.ucla.edu
SUMMARY:Test Divisional Event
DESCRIPTION:Testing\, please disregard
URL:https://afam.ucla.edu/event/test-divisional-event/
CATEGORIES:Divisional Publish
END:VEVENT
END:VCALENDAR