BEGIN:VCALENDAR
VERSION:2.0
PRODID:-//UCLA Department of African American Studies - ECPv6.15.17.1//NONSGML v1.0//EN
CALSCALE:GREGORIAN
METHOD:PUBLISH
X-WR-CALNAME:UCLA Department of African American Studies
X-ORIGINAL-URL:https://afam.ucla.edu
X-WR-CALDESC:Events for UCLA Department of African American Studies
REFRESH-INTERVAL;VALUE=DURATION:PT1H
X-Robots-Tag:noindex
X-PUBLISHED-TTL:PT1H
BEGIN:VTIMEZONE
TZID:America/Los_Angeles
BEGIN:DAYLIGHT
TZOFFSETFROM:-0800
TZOFFSETTO:-0700
TZNAME:PDT
DTSTART:20240310T100000
END:DAYLIGHT
BEGIN:STANDARD
TZOFFSETFROM:-0700
TZOFFSETTO:-0800
TZNAME:PST
DTSTART:20241103T090000
END:STANDARD
BEGIN:DAYLIGHT
TZOFFSETFROM:-0800
TZOFFSETTO:-0700
TZNAME:PDT
DTSTART:20250309T100000
END:DAYLIGHT
BEGIN:STANDARD
TZOFFSETFROM:-0700
TZOFFSETTO:-0800
TZNAME:PST
DTSTART:20251102T090000
END:STANDARD
BEGIN:DAYLIGHT
TZOFFSETFROM:-0800
TZOFFSETTO:-0700
TZNAME:PDT
DTSTART:20260308T100000
END:DAYLIGHT
BEGIN:STANDARD
TZOFFSETFROM:-0700
TZOFFSETTO:-0800
TZNAME:PST
DTSTART:20261101T090000
END:STANDARD
END:VTIMEZONE
BEGIN:VEVENT
DTSTART;TZID=America/Los_Angeles:20251212T190000
DTEND;TZID=America/Los_Angeles:20251212T210000
DTSTAMP:20260419T122237
CREATED:20251208T195631Z
LAST-MODIFIED:20251208T210235Z
UID:10717-1765566000-1765573200@afam.ucla.edu
SUMMARY:LYRICS FROM LOCKDOWN
DESCRIPTION:The internationally-acclaimed\, multimedia theatrical event returns to LA for a one-night-only performance!\n\n\n\nCreated by Tony Award–nominated theater maker\, activist and author Bryonn Bain\, LYRICS FROM LOCKDOWN brings to life the humor\, heartbreak and resilience of those impacted by mass incarceration\, through hip-hop theater\, spoken word poetry\, comedy\, calypso\, classical\, blues\, breathtaking visuals and music. The performance will be live streamed to prisons and correctional facilities. \nFor more information\, visity: www.LyricsFromLockdown.com \nSynopsis\nWitness the hijinks of a dysfunctional Caribbean immigrant family in Brooklyn\, and the genius and gallows humor of folks who face the imprisonment of their loved ones. LYRICS FROM LOCKDOWN is a one-man show bringing 40 characters to life\, telling two unbelievable true stories using hip-hop theater\, spoken word\, blues\, calypso\, comedy\, and a video DJ. \nTalkback\nA talkback featuring Bryonn Bain\, lead producer Claudia Peña\, and people experiencing incarceration attending the livestream! \nRave reviews!\nLegendary organizing icon Dolores Huerta says “Everyone in America should see this show!” \nThe New York Times hailed it as “truly polished\, meaningful and entertaining.” \nHip hop founder DJ Kool Herc said “A legend in the making!” \nAnna Deavere Smith describes this tour de force as “…every moment on stage is a thing of beauty.
URL:https://afam.ucla.edu/event/lyrics-from-lockdown-2/
LOCATION:Academy Museum of Motion Pictures\, 6067 Wilshire Boulevard\, Los Angeles\, California\, 90036
ATTACH;FMTTYPE=image/png:https://afam.ucla.edu/wp-content/uploads/2025/12/Untitled-Presentation.png
END:VEVENT
END:VCALENDAR