BEGIN:VCALENDAR
VERSION:2.0
PRODID:-//UCLA Department of African American Studies - ECPv6.15.17.1//NONSGML v1.0//EN
CALSCALE:GREGORIAN
METHOD:PUBLISH
X-ORIGINAL-URL:https://afam.ucla.edu
X-WR-CALDESC:Events for UCLA Department of African American Studies
REFRESH-INTERVAL;VALUE=DURATION:PT1H
X-Robots-Tag:noindex
X-PUBLISHED-TTL:PT1H
BEGIN:VTIMEZONE
TZID:UTC
BEGIN:STANDARD
TZOFFSETFROM:+0000
TZOFFSETTO:+0000
TZNAME:UTC
DTSTART:20230101T000000
END:STANDARD
END:VTIMEZONE
BEGIN:VEVENT
DTSTART;TZID=UTC:20240215T120000
DTEND;TZID=UTC:20240215T130000
DTSTAMP:20260419T200656
CREATED:20240207T110806Z
LAST-MODIFIED:20240207T112048Z
UID:8848-1707998400-1708002000@afam.ucla.edu
SUMMARY:JOB TALK: Whither Hurston? African Inheritances\, Africana Religious Studies\, & the Great Debate
DESCRIPTION:Join us Thursday\, Feb. 15th\, as we welcome our featured speaker Dr. Ahmad Greene-Hayes  for our last job talk of the year! These job talks are an opportunity for members of the UCLA community to hear faculty position applicants present on topics they are experts in. Please come hear Dr. Vesely-Flad speak and get an opportunity to ask her questions about her research! \n*Lunch will be provided!*
URL:https://afam.ucla.edu/event/job-talk-whither-hurston-african-inheritances-africana-religious-studies-the-great-debate/
LOCATION:Kaplan Hall 365\, Kaplan Hall\, Los Angeles\, CA\, 90095\, United States
END:VEVENT
END:VCALENDAR