BEGIN:VCALENDAR
VERSION:2.0
PRODID:-//UCLA Department of African American Studies - ECPv6.15.17.1//NONSGML v1.0//EN
CALSCALE:GREGORIAN
METHOD:PUBLISH
X-ORIGINAL-URL:https://afam.ucla.edu
X-WR-CALDESC:Events for UCLA Department of African American Studies
REFRESH-INTERVAL;VALUE=DURATION:PT1H
X-Robots-Tag:noindex
X-PUBLISHED-TTL:PT1H
BEGIN:VTIMEZONE
TZID:UTC
BEGIN:STANDARD
TZOFFSETFROM:+0000
TZOFFSETTO:+0000
TZNAME:UTC
DTSTART:20230101T000000
END:STANDARD
END:VTIMEZONE
BEGIN:VEVENT
DTSTART;TZID=UTC:20240213T120000
DTEND;TZID=UTC:20240213T133000
DTSTAMP:20260420T135132
CREATED:20240208T061426Z
LAST-MODIFIED:20240208T061426Z
UID:8874-1707825600-1707831000@afam.ucla.edu
SUMMARY:State Violence & Radical Justice in Brazil: A Conversation with Rute Fiúza
DESCRIPTION:Join the UCLA African American Studies Department & the UCLA Center for Brazilian Studies for this important conversation with our featured speaker\, human rights activist\, Rute Fiúza. \n 
URL:https://afam.ucla.edu/event/state-violence-radical-justice-in-brazil-a-conversation-with-rute-fiuza/
LOCATION:YRL\, YRL West Classroom\, Room #23167\, Los Angeles\, CA\, 90095
END:VEVENT
END:VCALENDAR