BEGIN:VCALENDAR
VERSION:2.0
PRODID:-//UCLA Department of African American Studies - ECPv6.15.17.1//NONSGML v1.0//EN
CALSCALE:GREGORIAN
METHOD:PUBLISH
X-ORIGINAL-URL:https://afam.ucla.edu
X-WR-CALDESC:Events for UCLA Department of African American Studies
REFRESH-INTERVAL;VALUE=DURATION:PT1H
X-Robots-Tag:noindex
X-PUBLISHED-TTL:PT1H
BEGIN:VTIMEZONE
TZID:UTC
BEGIN:STANDARD
TZOFFSETFROM:+0000
TZOFFSETTO:+0000
TZNAME:UTC
DTSTART:20230101T000000
END:STANDARD
END:VTIMEZONE
BEGIN:VEVENT
DTSTART;TZID=UTC:20240206T120000
DTEND;TZID=UTC:20240206T130000
DTSTAMP:20260422T154944
CREATED:20240207T111131Z
LAST-MODIFIED:20240207T111148Z
UID:8854-1707220800-1707224400@afam.ucla.edu
SUMMARY:JOB TALK: “’We’ve Been Born Free’: Rastafari Women’s Pan-African Worldmaking
DESCRIPTION:Our second job talk of the year! Come stop by Kaplan 193\, Tuesday\, February 6th\, for Dr. Shamara’s Alhassan talk titled “We’ve Been Born Free”: Rastafari Women’s Pan-African Worldmaking. These job talks are an opportunity for members of the UCLA community to hear faculty position applicants present on topics they are experts in. Please come hear Dr. Alhassan speak and get an opportunity to ask her questions about her research! \n*Lunch will be provided*
URL:https://afam.ucla.edu/event/job-talk-weve-been-born-free-rastafari-womens-pan-african-worldmaking/
LOCATION:Kaplan Hall 365\, Kaplan Hall\, Los Angeles\, CA\, 90095\, United States
END:VEVENT
BEGIN:VEVENT
DTSTART;TZID=UTC:20240206T180000
DTEND;TZID=UTC:20240206T200000
DTSTAMP:20260422T154944
CREATED:20240130T103758Z
LAST-MODIFIED:20240130T103758Z
UID:8834-1707242400-1707249600@afam.ucla.edu
SUMMARY:Radical Reparations BOOK TALK
DESCRIPTION:Speakers:\nDr. Marcus Anthony Hunter \nAuthor & UCLA Professor \nClick here to learn more about the author… \n\nWillie “Prophet” Stiggers \nPresident of the Black Music Action Coalition \nClick here to learn more about the Black Music Action Coalition… \n  \n\n\n\n\n\n\nDescription:\nJoin us for an exciting book talk on Tuesday\, February 6th! Get ready to dive into the thought-provoking world of RADICAL REPARATIONS: Healing the Soul of A Nation written by our very own UCLA Professor\, Dr. Marcus Anthony Hunter. In conversation with\, Willie “Prophet” Stiggers\, he will discuss the powerful ideas and perspectives presented in the book. Students\, Faculty and Staff of UCLA are all welcome to attend and engage in fresh insights on this important topic! \n\n\n\n\n\n\nDETAILS: \n\nDate: Tuesday\, February 6th\, 2024\nTime: 6:00pm-8:00pm\nLocation: UCLA Career Center Room 200 (located in the Strathmore Building)\n\n*Books will be sold by the Reparations Club* \nFood & Beverages will be provided.
URL:https://afam.ucla.edu/event/radical-reparations-book-talk/
LOCATION:UCLA Career Center\, UCLA Career Center\, Room #200\, Los Angeles\, CA\, 90095\, United States
END:VEVENT
END:VCALENDAR