BEGIN:VCALENDAR
VERSION:2.0
PRODID:-//UCLA Department of African American Studies - ECPv6.15.17.1//NONSGML v1.0//EN
CALSCALE:GREGORIAN
METHOD:PUBLISH
X-ORIGINAL-URL:https://afam.ucla.edu
X-WR-CALDESC:Events for UCLA Department of African American Studies
REFRESH-INTERVAL;VALUE=DURATION:PT1H
X-Robots-Tag:noindex
X-PUBLISHED-TTL:PT1H
BEGIN:VTIMEZONE
TZID:UTC
BEGIN:STANDARD
TZOFFSETFROM:+0000
TZOFFSETTO:+0000
TZNAME:UTC
DTSTART:20230101T000000
END:STANDARD
END:VTIMEZONE
BEGIN:VEVENT
DTSTART;TZID=UTC:20240201T120000
DTEND;TZID=UTC:20240201T130000
DTSTAMP:20260425T184539
CREATED:20240207T111555Z
LAST-MODIFIED:20240207T111727Z
UID:8858-1706788800-1706792400@afam.ucla.edu
SUMMARY:JOB TALK: Black Buddhists & the Black Radical Tradition
DESCRIPTION:Join us Thursday\, Feb. 1st\, as we welcome Dr. Rima Vesely-Flad for our first job talk of the year! These job talks are an opportunity for members of the UCLA community to hear faculty position applicants present on topics they are experts in. Please come hear Dr. Vesely-Flad speak and get an opportunity to ask her questions about her research! \n*Lunch Provided* \n 
URL:https://afam.ucla.edu/event/job-talk-black-buddhists-the-black-radical-tradition/
LOCATION:Kaplan Hall 365\, Kaplan Hall\, Los Angeles\, CA\, 90095\, United States
END:VEVENT
END:VCALENDAR